Package: microbiomeExplorer Version: 1.18.0 Command: rm -rf microbiomeExplorer.buildbin-libdir && mkdir microbiomeExplorer.buildbin-libdir && E:\biocbuild\bbs-3.21-bioc\R\bin\R.exe CMD INSTALL --build --library=microbiomeExplorer.buildbin-libdir microbiomeExplorer_1.18.0.tar.gz StartedAt: 2025-08-15 09:42:04 -0400 (Fri, 15 Aug 2025) EndedAt: 2025-08-15 09:47:23 -0400 (Fri, 15 Aug 2025) EllapsedTime: 319.4 seconds RetCode: 0 Status: OK PackageFile: microbiomeExplorer_1.18.0.zip PackageFileSize: 3.387 MiB