Package: microbiomeExplorer Version: 1.18.0 Command: /Library/Frameworks/R.framework/Resources/bin/R CMD INSTALL microbiomeExplorer StartedAt: 2025-10-13 15:44:02 -0400 (Mon, 13 Oct 2025) EndedAt: 2025-10-13 15:44:30 -0400 (Mon, 13 Oct 2025) EllapsedTime: 27.9 seconds RetCode: 0 Status: OK