Package: microbiomeExplorer Version: 1.18.0 Command: rm -rf microbiomeExplorer.buildbin-libdir && mkdir microbiomeExplorer.buildbin-libdir && /Users/biocbuild/BBS/utils/build-universal.sh microbiomeExplorer_1.18.0.tar.gz /Library/Frameworks/R.framework/Resources/bin/R microbiomeExplorer.buildbin-libdir StartedAt: 2025-10-14 14:03:10 -0400 (Tue, 14 Oct 2025) EndedAt: 2025-10-14 14:03:58 -0400 (Tue, 14 Oct 2025) EllapsedTime: 48.1 seconds RetCode: 0 Status: OK PackageFile: microbiomeExplorer_1.18.0.tgz PackageFileSize: 3.412 MiB