Package: microbiomeExplorer Version: 1.18.0 Command: /home/biocbuild/R/R/bin/R CMD INSTALL microbiomeExplorer StartedAt: 2025-10-13 20:37:42 -0000 (Mon, 13 Oct 2025) EndedAt: 2025-10-13 20:38:00 -0000 (Mon, 13 Oct 2025) EllapsedTime: 17.3 seconds RetCode: 0 Status: OK