Package: microbiomeExplorer Version: 1.18.0 Command: /home/biocbuild/R/R/bin/R CMD build --keep-empty-dirs --no-resave-data microbiomeExplorer StartedAt: 2025-10-14 02:27:59 -0000 (Tue, 14 Oct 2025) EndedAt: 2025-10-14 02:28:49 -0000 (Tue, 14 Oct 2025) EllapsedTime: 50.0 seconds RetCode: 0 Status: OK PackageFile: microbiomeExplorer_1.18.0.tar.gz PackageFileSize: 3.56 MiB