Package: microbiome Version: 1.30.0 Command: chmod a+r microbiome -R && E:\biocbuild\bbs-3.21-bioc\R\bin\R.exe CMD build --keep-empty-dirs --no-resave-data microbiome StartedAt: 2025-08-14 20:24:02 -0400 (Thu, 14 Aug 2025) EndedAt: 2025-08-14 20:25:32 -0400 (Thu, 14 Aug 2025) EllapsedTime: 89.9 seconds RetCode: 0 Status: OK PackageFile: microbiome_1.30.0.tar.gz PackageFileSize: 714.1 KiB