Package: microbiome Version: 1.30.0 Command: /Library/Frameworks/R.framework/Resources/bin/R CMD INSTALL microbiome StartedAt: 2025-10-13 15:32:56 -0400 (Mon, 13 Oct 2025) EndedAt: 2025-10-13 15:33:48 -0400 (Mon, 13 Oct 2025) EllapsedTime: 51.8 seconds RetCode: 0 Status: OK