Package: microbiome Version: 1.30.0 Command: rm -rf microbiome.buildbin-libdir && mkdir microbiome.buildbin-libdir && /Users/biocbuild/BBS/utils/build-universal.sh microbiome_1.30.0.tar.gz /Library/Frameworks/R.framework/Resources/bin/R microbiome.buildbin-libdir StartedAt: 2025-10-14 14:03:08 -0400 (Tue, 14 Oct 2025) EndedAt: 2025-10-14 14:04:27 -0400 (Tue, 14 Oct 2025) EllapsedTime: 79.0 seconds RetCode: 0 Status: OK PackageFile: microbiome_1.30.0.tgz PackageFileSize: 1016 KiB