Package: microbiome Version: 1.30.0 Command: /Library/Frameworks/R.framework/Resources/bin/R CMD INSTALL microbiome StartedAt: 2025-04-21 15:16:37 -0400 (Mon, 21 Apr 2025) EndedAt: 2025-04-21 15:17:07 -0400 (Mon, 21 Apr 2025) EllapsedTime: 30.3 seconds RetCode: 0 Status: OK