Package: microbiome Version: 1.30.0 Command: /Library/Frameworks/R.framework/Resources/bin/R CMD build --keep-empty-dirs --no-resave-data microbiome StartedAt: 2025-04-21 17:28:28 -0400 (Mon, 21 Apr 2025) EndedAt: 2025-04-21 17:29:08 -0400 (Mon, 21 Apr 2025) EllapsedTime: 40.0 seconds RetCode: 0 Status: OK PackageFile: microbiome_1.30.0.tar.gz PackageFileSize: 714 KiB