Package: microbiome Version: 1.30.0 Command: /Library/Frameworks/R.framework/Resources/bin/R CMD check --install=check:microbiome.install-out.txt --library=/Library/Frameworks/R.framework/Resources/library --no-vignettes --timings microbiome_1.30.0.tar.gz StartedAt: 2025-04-21 20:18:42 -0400 (Mon, 21 Apr 2025) EndedAt: 2025-04-21 20:19:57 -0400 (Mon, 21 Apr 2025) EllapsedTime: 74.9 seconds RetCode: 1 Status: ERROR CheckDir: microbiome.Rcheck Warnings: NA