Package: microbiome Version: 1.30.0 Command: /Library/Frameworks/R.framework/Resources/bin/R CMD build --keep-empty-dirs --no-resave-data microbiome StartedAt: 2025-10-14 04:20:06 -0400 (Tue, 14 Oct 2025) EndedAt: 2025-10-14 04:20:45 -0400 (Tue, 14 Oct 2025) EllapsedTime: 39.7 seconds RetCode: 0 Status: OK PackageFile: microbiome_1.30.0.tar.gz PackageFileSize: 714 KiB