Package: microRNA Version: 1.66.0 Command: /Library/Frameworks/R.framework/Resources/bin/R CMD build --keep-empty-dirs --no-resave-data microRNA StartedAt: 2025-10-13 20:32:34 -0400 (Mon, 13 Oct 2025) EndedAt: 2025-10-13 20:32:42 -0400 (Mon, 13 Oct 2025) EllapsedTime: 7.6 seconds RetCode: 0 Status: OK PackageFile: microRNA_1.66.0.tar.gz PackageFileSize: 5.743 MiB