Package: microRNA Version: 1.66.0 Command: /Library/Frameworks/R.framework/Resources/bin/R CMD INSTALL microRNA StartedAt: 2025-10-13 15:42:13 -0400 (Mon, 13 Oct 2025) EndedAt: 2025-10-13 15:42:27 -0400 (Mon, 13 Oct 2025) EllapsedTime: 14.3 seconds RetCode: 0 Status: OK