Package: microRNA Version: 1.66.0 Command: /Library/Frameworks/R.framework/Resources/bin/R CMD check --install=check:microRNA.install-out.txt --library=/Library/Frameworks/R.framework/Resources/library --no-vignettes --timings microRNA_1.66.0.tar.gz StartedAt: 2025-10-15 03:39:41 -0400 (Wed, 15 Oct 2025) EndedAt: 2025-10-15 03:41:15 -0400 (Wed, 15 Oct 2025) EllapsedTime: 94.3 seconds RetCode: 0 Status: OK CheckDir: microRNA.Rcheck Warnings: 0