Package: microRNA Version: 1.66.0 Maintainer: "Michael Lawrence" MaintainerEmail: michafla at gene.com git_url: https://git.bioconductor.org/packages/microRNA git_branch: RELEASE_3_21 git_last_commit: c486774 git_last_commit_date: 2025-04-15 09:43:04 -0400 (Tue, 15 Apr 2025)