Package: miaViz Version: 1.16.0 Command: chmod a+r miaViz -R && E:\biocbuild\bbs-3.21-bioc\R\bin\R.exe CMD build --keep-empty-dirs --no-resave-data miaViz StartedAt: 2025-08-14 20:23:47 -0400 (Thu, 14 Aug 2025) EndedAt: 2025-08-14 20:26:55 -0400 (Thu, 14 Aug 2025) EllapsedTime: 188.1 seconds RetCode: 0 Status: OK PackageFile: miaViz_1.16.0.tar.gz PackageFileSize: 2.458 MiB