Package: miaViz Version: 1.16.1 Command: /home/biocbuild/bbs-3.21-bioc/R/bin/R CMD build --keep-empty-dirs --no-resave-data miaViz StartedAt: 2025-10-15 18:30:08 -0400 (Wed, 15 Oct 2025) EndedAt: 2025-10-15 18:31:49 -0400 (Wed, 15 Oct 2025) EllapsedTime: 101.1 seconds RetCode: 0 Status: OK PackageFile: miaViz_1.16.1.tar.gz PackageFileSize: 2.874 MiB