Package: miaViz Version: 1.16.0 Command: /Library/Frameworks/R.framework/Resources/bin/R CMD build --keep-empty-dirs --no-resave-data miaViz StartedAt: 2025-04-21 17:28:22 -0400 (Mon, 21 Apr 2025) EndedAt: 2025-04-21 17:30:29 -0400 (Mon, 21 Apr 2025) EllapsedTime: 128.0 seconds RetCode: 0 Status: OK PackageFile: miaViz_1.16.0.tar.gz PackageFileSize: 2.532 MiB