Package: miaSim Version: 1.14.1 Command: /home/biocbuild/bbs-3.21-bioc/R/bin/R CMD INSTALL miaSim StartedAt: 2025-10-15 15:29:48 -0400 (Wed, 15 Oct 2025) EndedAt: 2025-10-15 15:30:17 -0400 (Wed, 15 Oct 2025) EllapsedTime: 28.8 seconds RetCode: 0 Status: OK