Package: miaSim Version: 1.14.1 Command: /home/biocbuild/bbs-3.21-bioc/R/bin/R CMD check --install=check:miaSim.install-out.txt --library=/home/biocbuild/bbs-3.21-bioc/R/site-library --timings miaSim_1.14.1.tar.gz StartedAt: 2025-10-16 00:59:58 -0400 (Thu, 16 Oct 2025) EndedAt: 2025-10-16 01:04:30 -0400 (Thu, 16 Oct 2025) EllapsedTime: 272.2 seconds RetCode: 1 Status: ERROR CheckDir: miaSim.Rcheck Warnings: NA