Package: miaSim Version: 1.14.1 Command: /home/biocbuild/bbs-3.21-bioc/R/bin/R CMD build --keep-empty-dirs --no-resave-data miaSim StartedAt: 2025-10-15 18:30:08 -0400 (Wed, 15 Oct 2025) EndedAt: 2025-10-15 18:30:59 -0400 (Wed, 15 Oct 2025) EllapsedTime: 51.0 seconds RetCode: 0 Status: OK PackageFile: miaSim_1.14.1.tar.gz PackageFileSize: 392.6 KiB