Package: miaSim Version: 1.14.1 Command: /home/biocbuild/R/R/bin/R CMD build --keep-empty-dirs --no-resave-data miaSim StartedAt: 2025-10-14 02:26:39 -0000 (Tue, 14 Oct 2025) EndedAt: 2025-10-14 02:27:48 -0000 (Tue, 14 Oct 2025) EllapsedTime: 69.0 seconds RetCode: 0 Status: OK PackageFile: miaSim_1.14.1.tar.gz PackageFileSize: 419.1 KiB