Package: miaSim Version: 1.14.0 Command: /Library/Frameworks/R.framework/Resources/bin/R CMD build --keep-empty-dirs --no-resave-data miaSim StartedAt: 2025-04-21 16:56:20 -0400 (Mon, 21 Apr 2025) EndedAt: 2025-04-21 16:56:50 -0400 (Mon, 21 Apr 2025) EllapsedTime: 30.3 seconds RetCode: 0 Status: OK PackageFile: miaSim_1.14.0.tar.gz PackageFileSize: 653.5 KiB