Package: miaSim Version: 1.14.0 Command: rm -rf miaSim.buildbin-libdir && mkdir miaSim.buildbin-libdir && /Users/biocbuild/BBS/utils/build-universal.sh miaSim_1.14.0.tar.gz /Library/Frameworks/R.framework/Resources/bin/R miaSim.buildbin-libdir StartedAt: 2025-04-21 22:42:04 -0400 (Mon, 21 Apr 2025) EndedAt: 2025-04-21 22:42:17 -0400 (Mon, 21 Apr 2025) EllapsedTime: 13.3 seconds RetCode: 0 Status: OK PackageFile: miaSim_1.14.0.tgz PackageFileSize: 740.4 KiB