Package: miaSim Version: 1.14.1 Command: /Library/Frameworks/R.framework/Resources/bin/R CMD INSTALL miaSim StartedAt: 2025-10-13 16:48:04 -0400 (Mon, 13 Oct 2025) EndedAt: 2025-10-13 16:48:37 -0400 (Mon, 13 Oct 2025) EllapsedTime: 33.0 seconds RetCode: 0 Status: OK