Package: miaSim Version: 1.14.1 Command: /Library/Frameworks/R.framework/Resources/bin/R CMD build --keep-empty-dirs --no-resave-data miaSim StartedAt: 2025-10-14 04:19:13 -0400 (Tue, 14 Oct 2025) EndedAt: 2025-10-14 04:20:03 -0400 (Tue, 14 Oct 2025) EllapsedTime: 50.6 seconds RetCode: 0 Status: OK PackageFile: miaSim_1.14.1.tar.gz PackageFileSize: 392.5 KiB