Package: miaSim Version: 1.14.1 Command: rm -rf miaSim.buildbin-libdir && mkdir miaSim.buildbin-libdir && /Users/biocbuild/BBS/utils/build-universal.sh miaSim_1.14.1.tar.gz /Library/Frameworks/R.framework/Resources/bin/R miaSim.buildbin-libdir StartedAt: 2025-10-15 19:18:37 -0400 (Wed, 15 Oct 2025) EndedAt: 2025-10-15 19:19:16 -0400 (Wed, 15 Oct 2025) EllapsedTime: 38.9 seconds RetCode: 0 Status: OK PackageFile: miaSim_1.14.1.tgz PackageFileSize: 482.3 KiB