Package: miaSim Version: 1.14.1 Maintainer: Yagmur Simsek MaintainerEmail: yagmur.simsek.98 at gmail.com git_url: https://git.bioconductor.org/packages/miaSim git_branch: RELEASE_3_21 git_last_commit: 7e6bf94 git_last_commit_date: 2025-08-13 10:45:23 -0400 (Wed, 13 Aug 2025)