Package: miaDash Version: 1.0.0 Command: /home/biocbuild/bbs-3.21-bioc/R/bin/R CMD check --install=check:miaDash.install-out.txt --library=/home/biocbuild/bbs-3.21-bioc/R/site-library --timings miaDash_1.0.0.tar.gz StartedAt: 2025-10-16 00:59:54 -0400 (Thu, 16 Oct 2025) EndedAt: 2025-10-16 01:05:38 -0400 (Thu, 16 Oct 2025) EllapsedTime: 344.4 seconds RetCode: 0 Status: OK CheckDir: miaDash.Rcheck Warnings: 0