Package: miRspongeR Version: 2.12.0 Command: E:\biocbuild\bbs-3.21-bioc\R\bin\R.exe CMD check --no-multiarch --install=check:miRspongeR.install-out.txt --library=E:\biocbuild\bbs-3.21-bioc\R\library --no-vignettes --timings miRspongeR_2.12.0.tar.gz StartedAt: 2025-08-15 04:14:34 -0400 (Fri, 15 Aug 2025) EndedAt: 2025-08-15 04:21:11 -0400 (Fri, 15 Aug 2025) EllapsedTime: 397.1 seconds RetCode: 0 Status: OK CheckDir: miRspongeR.Rcheck Warnings: 0