Package: miRspongeR Version: 2.12.0 Command: /Library/Frameworks/R.framework/Resources/bin/R CMD check --install=check:miRspongeR.install-out.txt --library=/Library/Frameworks/R.framework/Resources/library --no-vignettes --timings miRspongeR_2.12.0.tar.gz StartedAt: 2025-04-21 21:57:04 -0400 (Mon, 21 Apr 2025) EndedAt: 2025-04-21 22:02:39 -0400 (Mon, 21 Apr 2025) EllapsedTime: 335.1 seconds RetCode: 0 Status: OK CheckDir: miRspongeR.Rcheck Warnings: 0