Package: miRspongeR Version: 2.12.0 Command: /home/biocbuild/R/R/bin/R CMD check --install=check:miRspongeR.install-out.txt --library=/home/biocbuild/R/R/site-library --no-vignettes --timings miRspongeR_2.12.0.tar.gz StartedAt: 2025-10-14 11:18:22 -0000 (Tue, 14 Oct 2025) EndedAt: 2025-10-14 11:25:30 -0000 (Tue, 14 Oct 2025) EllapsedTime: 427.4 seconds RetCode: 0 Status: OK CheckDir: miRspongeR.Rcheck Warnings: 0