Package: miRspongeR Version: 2.12.0 Command: rm -rf miRspongeR.buildbin-libdir && mkdir miRspongeR.buildbin-libdir && /Users/biocbuild/BBS/utils/build-universal.sh miRspongeR_2.12.0.tar.gz /Library/Frameworks/R.framework/Resources/bin/R miRspongeR.buildbin-libdir StartedAt: 2025-04-21 22:42:31 -0400 (Mon, 21 Apr 2025) EndedAt: 2025-04-21 22:42:48 -0400 (Mon, 21 Apr 2025) EllapsedTime: 16.4 seconds RetCode: 0 Status: OK PackageFile: miRspongeR_2.12.0.tgz PackageFileSize: 796.8 KiB