Package: miRcomp Version: 1.38.1 Command: E:\biocbuild\bbs-3.21-bioc\R\bin\R.exe CMD check --no-multiarch --install=check:miRcomp.install-out.txt --library=E:\biocbuild\bbs-3.21-bioc\R\library --no-vignettes --timings miRcomp_1.38.1.tar.gz StartedAt: 2025-08-15 04:11:54 -0400 (Fri, 15 Aug 2025) EndedAt: 2025-08-15 04:12:47 -0400 (Fri, 15 Aug 2025) EllapsedTime: 52.9 seconds RetCode: 0 Status: OK CheckDir: miRcomp.Rcheck Warnings: 0