Package: miRcomp Version: 1.38.1 Command: chmod a+r miRcomp -R && E:\biocbuild\bbs-3.21-bioc\R\bin\R.exe CMD build --keep-empty-dirs --no-resave-data miRcomp StartedAt: 2025-08-14 20:26:58 -0400 (Thu, 14 Aug 2025) EndedAt: 2025-08-14 20:27:49 -0400 (Thu, 14 Aug 2025) EllapsedTime: 51.7 seconds RetCode: 0 Status: OK PackageFile: miRcomp_1.38.1.tar.gz PackageFileSize: 2.291 MiB