Package: miRcomp Version: 1.38.1 Command: rm -rf miRcomp.buildbin-libdir && mkdir miRcomp.buildbin-libdir && E:\biocbuild\bbs-3.21-bioc\R\bin\R.exe CMD INSTALL --build --library=miRcomp.buildbin-libdir miRcomp_1.38.1.tar.gz StartedAt: 2025-08-15 09:43:05 -0400 (Fri, 15 Aug 2025) EndedAt: 2025-08-15 09:43:17 -0400 (Fri, 15 Aug 2025) EllapsedTime: 12.2 seconds RetCode: 0 Status: OK PackageFile: miRcomp_1.38.1.zip PackageFileSize: 2.32 MiB