Package: miRcomp Version: 1.38.1 Command: /home/biocbuild/bbs-3.21-bioc/R/bin/R CMD INSTALL miRcomp StartedAt: 2025-10-15 15:11:47 -0400 (Wed, 15 Oct 2025) EndedAt: 2025-10-15 15:11:51 -0400 (Wed, 15 Oct 2025) EllapsedTime: 3.9 seconds RetCode: 0 Status: OK