Package: miRcomp Version: 1.38.1 Command: /Library/Frameworks/R.framework/Resources/bin/R CMD check --install=check:miRcomp.install-out.txt --library=/Library/Frameworks/R.framework/Resources/library --no-vignettes --timings miRcomp_1.38.1.tar.gz StartedAt: 2025-10-14 06:37:32 -0400 (Tue, 14 Oct 2025) EndedAt: 2025-10-14 06:39:18 -0400 (Tue, 14 Oct 2025) EllapsedTime: 105.5 seconds RetCode: 0 Status: OK CheckDir: miRcomp.Rcheck Warnings: 0