Package: miRcomp Version: 1.38.1 Command: /home/biocbuild/R/R/bin/R CMD check --install=check:miRcomp.install-out.txt --library=/home/biocbuild/R/R/site-library --no-vignettes --timings miRcomp_1.38.1.tar.gz StartedAt: 2025-10-14 11:16:45 -0000 (Tue, 14 Oct 2025) EndedAt: 2025-10-14 11:17:26 -0000 (Tue, 14 Oct 2025) EllapsedTime: 41.0 seconds RetCode: 0 Status: OK CheckDir: miRcomp.Rcheck Warnings: 0