Package: miRcomp Version: 1.38.1 Command: /home/biocbuild/R/R/bin/R CMD build --keep-empty-dirs --no-resave-data miRcomp StartedAt: 2025-10-14 02:31:36 -0000 (Tue, 14 Oct 2025) EndedAt: 2025-10-14 02:32:26 -0000 (Tue, 14 Oct 2025) EllapsedTime: 50.0 seconds RetCode: 0 Status: OK PackageFile: miRcomp_1.38.1.tar.gz PackageFileSize: 3.018 MiB