Package: miRcomp Version: 1.38.1 Command: /Library/Frameworks/R.framework/Resources/bin/R CMD check --install=check:miRcomp.install-out.txt --library=/Library/Frameworks/R.framework/Resources/library --no-vignettes --timings miRcomp_1.38.1.tar.gz StartedAt: 2025-10-15 03:56:18 -0400 (Wed, 15 Oct 2025) EndedAt: 2025-10-15 03:57:04 -0400 (Wed, 15 Oct 2025) EllapsedTime: 46.0 seconds RetCode: 0 Status: OK CheckDir: miRcomp.Rcheck Warnings: 0