Package: miRcomp Version: 1.38.1 Maintainer: Matthew N. McCall MaintainerEmail: mccallm at gmail.com git_url: https://git.bioconductor.org/packages/miRcomp git_branch: RELEASE_3_21 git_last_commit: 146ec0c git_last_commit_date: 2025-05-29 22:12:35 -0400 (Thu, 29 May 2025)