Package: miRSM Version: 2.4.0 Command: E:\biocbuild\bbs-3.21-bioc\R\bin\R.exe CMD INSTALL miRSM StartedAt: 2025-08-14 17:00:01 -0400 (Thu, 14 Aug 2025) EndedAt: 2025-08-14 17:01:17 -0400 (Thu, 14 Aug 2025) EllapsedTime: 76.5 seconds RetCode: 0 Status: OK