Package: miRSM Version: 2.4.0 Command: rm -rf miRSM.buildbin-libdir && mkdir miRSM.buildbin-libdir && E:\biocbuild\bbs-3.21-bioc\R\bin\R.exe CMD INSTALL --build --library=miRSM.buildbin-libdir miRSM_2.4.0.tar.gz StartedAt: 2025-08-15 09:43:22 -0400 (Fri, 15 Aug 2025) EndedAt: 2025-08-15 09:44:34 -0400 (Fri, 15 Aug 2025) EllapsedTime: 71.9 seconds RetCode: 0 Status: OK PackageFile: miRSM_2.4.0.zip PackageFileSize: 1.037 MiB