Package: miRSM Version: 2.4.0 Command: /Library/Frameworks/R.framework/Resources/bin/R CMD build --keep-empty-dirs --no-resave-data miRSM StartedAt: 2025-10-13 20:36:39 -0400 (Mon, 13 Oct 2025) EndedAt: 2025-10-13 20:40:02 -0400 (Mon, 13 Oct 2025) EllapsedTime: 202.6 seconds RetCode: 0 Status: OK PackageFile: miRSM_2.4.0.tar.gz PackageFileSize: 911.8 KiB