Package: miRSM Version: 2.4.0 Command: rm -rf miRSM.buildbin-libdir && mkdir miRSM.buildbin-libdir && /Users/biocbuild/BBS/utils/build-universal.sh miRSM_2.4.0.tar.gz /Library/Frameworks/R.framework/Resources/bin/R miRSM.buildbin-libdir StartedAt: 2025-10-14 14:05:18 -0400 (Tue, 14 Oct 2025) EndedAt: 2025-10-14 14:08:18 -0400 (Tue, 14 Oct 2025) EllapsedTime: 180.1 seconds RetCode: 0 Status: OK PackageFile: miRSM_2.4.0.tgz PackageFileSize: 1.031 MiB