Package: miRSM Version: 2.4.0 Command: /home/biocbuild/R/R/bin/R CMD check --install=check:miRSM.install-out.txt --library=/home/biocbuild/R/R/site-library --no-vignettes --timings miRSM_2.4.0.tar.gz StartedAt: 2025-10-14 11:18:13 -0000 (Tue, 14 Oct 2025) EndedAt: 2025-10-14 11:27:18 -0000 (Tue, 14 Oct 2025) EllapsedTime: 544.5 seconds RetCode: 0 Status: OK CheckDir: miRSM.Rcheck Warnings: 0