Package: miRSM Version: 2.4.0 Command: /home/biocbuild/R/R/bin/R CMD build --keep-empty-dirs --no-resave-data miRSM StartedAt: 2025-10-14 02:32:03 -0000 (Tue, 14 Oct 2025) EndedAt: 2025-10-14 02:34:08 -0000 (Tue, 14 Oct 2025) EllapsedTime: 125.0 seconds RetCode: 0 Status: OK PackageFile: miRSM_2.4.0.tar.gz PackageFileSize: 935.9 KiB