Package: miRSM Version: 2.4.0 Command: /Library/Frameworks/R.framework/Resources/bin/R CMD INSTALL miRSM StartedAt: 2025-04-21 15:24:51 -0400 (Mon, 21 Apr 2025) EndedAt: 2025-04-21 15:25:14 -0400 (Mon, 21 Apr 2025) EllapsedTime: 22.8 seconds RetCode: 0 Status: OK